BEGIN:VCALENDAR
VERSION:2.0
METHOD:PUBLISH
PRODID:-//imacoda.com//SPD-Web-O-Mat//EN
CALSCALE:GREGORIAN
BEGIN:VTIMEZONE
TZID:Europe/Berlin
BEGIN:DAYLIGHT
TZOFFSETFROM:+0100
RRULE:FREQ=YEARLY;BYMONTH=3;BYDAY=-1SU
DTSTART:19810329T020000
TZNAME:MESZ
TZOFFSETTO:+0200
END:DAYLIGHT
BEGIN:STANDARD
TZOFFSETFROM:+0200
RRULE:FREQ=YEARLY;BYMONTH=10;BYDAY=-1SU
DTSTART:19961027T030000
TZNAME:MEZ
TZOFFSETTO:+0100
END:STANDARD
END:VTIMEZONE
BEGIN:VEVENT
UID:20260416T093610Z-00001186924-LULU@www.bayernspd.de
CREATED:20260416T093610Z
LAST-MODIFIED:20260416T093707Z
DTSTAMP:20260416T093707Z
TRANSP:TRANSPARENT
DTSTART;TZID=Europe/Berlin:20260503T100000
DTEND;TZID=Europe/Berlin:20260503T120000
SUMMARY:„Rechtsruck in Europa – Die Rolle der Frauen“ - mit Maria Noichl
 \, MdEP & Anna Rasehorn\, MdL
LOCATION:Cabresso am Milchberg\, Milchberg 12\, 86150 Augsburg
DESCRIPTION:Termin im Web (Maria Noichl):\nhttps://maria-noichl.eu/termi
 ne/?id=1186924
END:VEVENT
END:VCALENDAR
