BEGIN:VCALENDAR
VERSION:2.0
METHOD:PUBLISH
PRODID:-//imacoda.com//SPD-Web-O-Mat//EN
CALSCALE:GREGORIAN
BEGIN:VTIMEZONE
TZID:Europe/Berlin
BEGIN:DAYLIGHT
TZOFFSETFROM:+0100
RRULE:FREQ=YEARLY;BYMONTH=3;BYDAY=-1SU
DTSTART:19810329T020000
TZNAME:MESZ
TZOFFSETTO:+0200
END:DAYLIGHT
BEGIN:STANDARD
TZOFFSETFROM:+0200
RRULE:FREQ=YEARLY;BYMONTH=10;BYDAY=-1SU
DTSTART:19961027T030000
TZNAME:MEZ
TZOFFSETTO:+0100
END:STANDARD
END:VTIMEZONE
BEGIN:VEVENT
UID:20240325T120120Z-00000958060-LULU@www.bayernspd.de
CREATED:20240325T120120Z
LAST-MODIFIED:20240417T090304Z
DTSTAMP:20240417T090304Z
TRANSP:TRANSPARENT
DTSTART;TZID=Europe/Berlin:20240428T100000
DTEND;TZID=Europe/Berlin:20240428T100000
SUMMARY:UB Eichstätt: Frühschoppen mit Maria Noichl\, MdEP
LOCATION:Gasthaus am Marktplatz\, Marktplatz / Ecke Huberbräugasse\, 850
 80 Gaimersheim
DESCRIPTION:Termin im Web (Maria Noichl):\nhttps://maria-noichl.eu/termi
 ne/?id=958060
END:VEVENT
END:VCALENDAR
