BEGIN:VCALENDAR
VERSION:2.0
METHOD:PUBLISH
PRODID:-//imacoda.com//SPD-Web-O-Mat//EN
CALSCALE:GREGORIAN
BEGIN:VTIMEZONE
TZID:Europe/Berlin
BEGIN:DAYLIGHT
TZOFFSETFROM:+0100
RRULE:FREQ=YEARLY;BYMONTH=3;BYDAY=-1SU
DTSTART:19810329T020000
TZNAME:MESZ
TZOFFSETTO:+0200
END:DAYLIGHT
BEGIN:STANDARD
TZOFFSETFROM:+0200
RRULE:FREQ=YEARLY;BYMONTH=10;BYDAY=-1SU
DTSTART:19961027T030000
TZNAME:MEZ
TZOFFSETTO:+0100
END:STANDARD
END:VTIMEZONE
BEGIN:VEVENT
UID:20250116T094302Z-00000991829-LULU@www.bayernspd.de
CREATED:20250116T094302Z
LAST-MODIFIED:20250116T094424Z
DTSTAMP:20250116T094424Z
TRANSP:TRANSPARENT
DTSTART;TZID=Europe/Berlin:20250127T170000
DTEND;TZID=Europe/Berlin:20250127T170000
SUMMARY:3. Weihenstephaner Zukunftsforum: „Landwirtschaft ohne Subventio
 nen – Denkbar\, machbar\, wünschenswert?“.
LOCATION:Hörsaal 17 (Liesel-Beckmann-Str. 1\, 85354 Freising)
DESCRIPTION:Termin im Web (Maria Noichl):\nhttps://maria-noichl.eu/termi
 ne/?id=991829
END:VEVENT
END:VCALENDAR
